BEGIN:VCALENDAR
VERSION:2.0
PRODID:-//Patching for anything - モジュラーシンセ・マシンライブのWebメディア - ECPv6.5.2//NONSGML v1.0//EN
CALSCALE:GREGORIAN
METHOD:PUBLISH
X-WR-CALNAME:Patching for anything - モジュラーシンセ・マシンライブのWebメディア
X-ORIGINAL-URL:https://patching-for-anything.com
X-WR-CALDESC:Patching for anything - モジュラーシンセ・マシンライブのWebメディア のイベント
REFRESH-INTERVAL;VALUE=DURATION:PT1H
X-Robots-Tag:noindex
X-PUBLISHED-TTL:PT1H
BEGIN:VTIMEZONE
TZID:Asia/Tokyo
BEGIN:STANDARD
TZOFFSETFROM:+0900
TZOFFSETTO:+0900
TZNAME:JST
DTSTART:20260101T000000
END:STANDARD
END:VTIMEZONE
BEGIN:VEVENT
DTSTART;TZID=Asia/Tokyo:20260321T163000
DTEND;TZID=Asia/Tokyo:20260321T210000
DTSTAMP:20260421T225044
CREATED:20260225T012430Z
LAST-MODIFIED:20260225T012754Z
UID:2293-1774110600-1774126800@patching-for-anything.com
SUMMARY:印象派
DESCRIPTION:【LIVE】3/21（土） \n印象派Impressionism \nOPEN 16:00START 16:30ENT ¥2500 + 1D \n高円寺Oriental Force \nKarch神田川雙陽Joe-JoeSUSHIDASトマト缶P.O.V.雅巴 × お雑煮
URL:https://patching-for-anything.com/event/impressionism/
ATTACH;FMTTYPE=image/jpeg:https://patching-for-anything.com/wp-content/uploads/2026/02/phonto.jpeg
END:VEVENT
BEGIN:VEVENT
DTSTART;TZID=Asia/Tokyo:20260321T173000
DTEND;TZID=Asia/Tokyo:20260321T213000
DTSTAMP:20260421T225044
CREATED:20260225T011936Z
LAST-MODIFIED:20260225T011936Z
UID:2290-1774114200-1774128600@patching-for-anything.com
SUMMARY:Machine Live Session
DESCRIPTION:【LIVE】3/21（土） \nMachine Live SessionLive House Tsudoh Kanazawa \n金沢市彦三町2-6-23 \nOPEN 17:30START 18:00DOOR ¥1000（w/1 Drink） \nnsntikitYY-KK理科 棚BYRONKenji YamaneKenji HamadaKatayama Noise
URL:https://patching-for-anything.com/event/machine-live-session/
ATTACH;FMTTYPE=image/jpeg:https://patching-for-anything.com/wp-content/uploads/2026/02/IMG_7641.jpeg
END:VEVENT
END:VCALENDAR