BEGIN:VCALENDAR
VERSION:2.0
PRODID:-//Patching for anything - モジュラーシンセ・マシンライブのWebメディア - ECPv6.5.2//NONSGML v1.0//EN
CALSCALE:GREGORIAN
METHOD:PUBLISH
X-WR-CALNAME:Patching for anything - モジュラーシンセ・マシンライブのWebメディア
X-ORIGINAL-URL:https://patching-for-anything.com
X-WR-CALDESC:Patching for anything - モジュラーシンセ・マシンライブのWebメディア のイベント
REFRESH-INTERVAL;VALUE=DURATION:PT1H
X-Robots-Tag:noindex
X-PUBLISHED-TTL:PT1H
BEGIN:VTIMEZONE
TZID:Asia/Tokyo
BEGIN:STANDARD
TZOFFSETFROM:+0900
TZOFFSETTO:+0900
TZNAME:JST
DTSTART:20260101T000000
END:STANDARD
END:VTIMEZONE
BEGIN:VEVENT
DTSTART;TZID=Asia/Tokyo:20260426T190000
DTEND;TZID=Asia/Tokyo:20260426T230000
DTSTAMP:20260421T214551
CREATED:20260420T081621Z
LAST-MODIFIED:20260421T001208Z
UID:2484-1777230000-1777244400@patching-for-anything.com
SUMMARY:Electric Meditation 2- Experimental Electronics
DESCRIPTION:4/26(日) \nElectric Meditation 2- Experimental Electronics \nat Space Orbit \n19:00-23:00 \nENT ¥2000- \nDJ Toppo / Jun(P4L Modular)／Proppy／Morisawa／Pikamachi(Hikari Instruments)／Ulcasiva \nスペースオービットカフェ三軒茶屋にて、地元のモジュラーシンセ製作者や新進気鋭のアーティストによるレコードやライブパフォーマンスをお楽しみください。いつものモジュラーイベントとは少し趣向を変え、より実験的な雰囲気のイベントになるかもしれません. 今回で2回目のイベントとなります。今後は、他のエレクトロニックやアコースティックの即興演奏家／実験音楽家の方々にもご参加いただきたいと思っています。ぜひお気軽にお越しください。キッチンではカレー、ビール、お茶などをご用意しておりますので、ご自由にお召し上がりください。 \n出演者ラインナップは以下の通りです（順不同）： \nJUN（P4L Modular): Jun はライブエレクトロニクスやDJなど、多方面で活躍する多才なアーティストです。P4L Modularは彼のユーロラックモジュラーシンセブランドで、DIY製品やBuchlaにインスパイアされたモジュールを幅広く展開しています。 \nProppy: 東京を拠点とするフランス人アーティスト兼プログラマーで、モジュラーシンセサイザーを用いて緻密な作品を制作している。 \nPikamachi: Hikari Instruments 創設者。彼の演奏は常に有機的で複雑なサウンドが特徴で、幾重にも重なるフィードバックを駆使している。 \nUlcasiva: ユニークで奇妙な楽器やコントロールサーフェスを制作するアーティストで、普段はライブ演奏は行いませんが、彼がどんな面白い音を生み出しているのか、とても楽しみです！ \nMorisawa: 現在”ミュージック・コンクレート”などを研究しているコンピューター音楽アーティストです。 \nToppo (toppobrillo): 現在東京を拠点に活動するユーロラック・モジュラーシンセメーカーで、興味深いサウンドへの鋭い感性を持っています。彼は来日以来収集してきたレコードをいくつか持参する予定です。サウンドコラージュ、フィールドレコーディング、テープミュージック、ポップス、ノイズジャズ風の間奏曲など、様々なジャンルの音楽が楽しめるでしょう。
URL:https://patching-for-anything.com/event/electric-meditation-2-experimental-electronics/
ATTACH;FMTTYPE=image/png:https://patching-for-anything.com/wp-content/uploads/2026/04/EM2-flyer1-cropped-.png
END:VEVENT
BEGIN:VEVENT
DTSTART;TZID=Asia/Tokyo:20260429T190000
DTEND;TZID=Asia/Tokyo:20260429T220000
DTSTAMP:20260421T214551
CREATED:20260328T134854Z
LAST-MODIFIED:20260328T134854Z
UID:2418-1777489200-1777500000@patching-for-anything.com
SUMMARY:Modular Wednesday Pres. Karch 『Y2G-UH』Release Party
DESCRIPTION:Modular Wednesday Pres.\nKarch 『Y2G-UH』Release Party \n2026 4/29 (Wed) 19:00 – 22:00\nAt SHIBUYA OTO\nENTRANCE: 1000Yen + one drink order \nLIVE:\nKarch\nSamuel Smoky Purple\nWoody \nDJ:\nKATSUDOU
URL:https://patching-for-anything.com/event/modular-wednesday-pres-karch-%e3%80%8ey2g-uh%e3%80%8frelease-party/
LOCATION:Shinuya OTO
ATTACH;FMTTYPE=image/png:https://patching-for-anything.com/wp-content/uploads/2026/03/Y2G-UH.png
END:VEVENT
END:VCALENDAR